Workbook

Sheet Chapter 10
D3: Ross, Westerfield, Jaffe, and Jordan's Excel Master
D4: Corporate Finance, 13th edition
D5: by Brad Jordan and Joe Smolira
D6: Version 13.0
D8: Chapter 10
D10: In these spreadsheets, you will learn how to use the following Excel functions:
D32: The following conventions are used in these spreadsheets:
D34: 1) Given data in blue
D35: 2) Calculations in red
D37: NOTE: Some functions used in these spreadsheets may require that
D38: the "Analysis ToolPak" or "Solver Add-In" be installed in Excel.
D39: To install these, click on the File tab
... D42: "Solver Add-In," then click "OK."

Sheet Section 10.1
B2: Chapter 10 - Section 1
B3: Returns
A5: Calculating returns in Excel is a relatively simple matter since we only need to input basic equations. Consider the information from the Video Concepts Company:
B7: Shares | D7: 100
B8: Beginning price | D8: 37
B9: Ending price | D9: 40.33
B10: Dividend per share | D10: 1.85
A12: With this information, we can calculate the dollar returns and percentage returns as:
B14: Total dollar capital gains | D14: =D7*(D9-D8) -> 333
B15: Dividend income | D15: =D10*D7 -> 185
B16: Total dollar return | D16: =D14+D15 -> 518
B18: Capital gains return | D18: =(D9-D8)/D8 -> 0.09
B19: Dividend yield | D19: =D10/D8 -> 0.05
B20: Total return | D20: =D18+D19 -> 0.14
A22: Yahoo! Finance Returns
A23: A popular website that provides daily stock prices is Yahoo! Finance. However, if you use the prices quoted on this website to calculate the return of a stock, you must be careful to use the correct information. Yahoo! Finance reports two closing stock prices, the actual closing price and the adjusted close which is adjusted for stock splits and dividends. In a stock split, the number of shares is increased and the stock price is decreased. For example, in a 2-for-1 stock split, the number of shares would be doubled since shareholders would receive 2 shares for every 1 share they currently own, and the stock price would be halved.
A25: Suppose a stock is currently trading at $120 per share and undergoes a 2-for-1 stock split. Also assume that the stock price remains unchanged during the day. The closing price on Yahoo! Finance would report prices of $120 and $60, respectively, which looks like a 50 percent decrease in the stock price. In actuality, the shareholder return during the day was zero because although the stock price was cut in half, the number of shares they owned was doubled. In this case, the adjusted closing price would be reported as $60 for both days.
A27: The adjusted close reported on Yahoo! Finance also adjusts for dividends. Consider a stock that is selling for $100 at the end of April, pays a dividend of $5, and has a price of $108 at the end of May. The stockholder return for this period was ($108 - 100 + 5) / $100 = 13 percent. In this case, the adjusted close at the end of May would be $108, while the adjusted close for the end of April would be $95.581, which is a return of ($108 - 95.581) / $95.581 = 13 percent. Below, we have calculated the return for IBM over a 12-month period using both the closing price and dividend, and the adjusted close.
B29: Date | C29: Close | D29: Dividend | E29: Adj Close | F29: Return with closing price and dividend | G29: Return with adjusted close
B30: 43952 | C30: 124.9 | E30: 117.02657
B31: 43983 | C31: 120.77 | D31: 1.63 | E31: 114.67447 | F31: =(C31-C30+D31)/C30 -> -0.020016053 | G31: =(E31-E30)/E30 -> -0.02009883
B32: 44013 | C32: 122.94 | E32: 116.73495 | F32: =(C32-C31+D32)/C31 -> 0.01796808 | G32: =(E32-E31)/E31 -> 0.017968132
B33: 44044 | C33: 123.31 | E33: 117.08627 | F33: =(C33-C32+D33)/C32 -> 0.0030095656 | G33: =(E33-E32)/E32 -> 0.0030095356
B34: 44075 | C34: 121.67 | D34: 1.93 | E34: 117.04172 | F34: =(C34-C33+D34)/C33 -> 0.0023517963 | G34: =(E34-E33)/E33 -> -0.00038047159
B35: 44105 | C35: 111.66 | E35: 107.41251 | F35: =(C35-C34+D35)/C34 -> -0.082271671 | G35: =(E35-E34)/E34 -> -0.082271677
B36: 44136 | C36: 123.52 | E36: 118.82134 | F36: =(C36-C35+D36)/C35 -> 0.10621523 | G36: =(E36-E35)/E35 -> 0.10621516
B37: 44166 | C37: 125.88 | D37: 1.63 | E37: 122.84746 | F37: =(C37-C36+D37)/C36 -> 0.032302462 | G37: =(E37-E36)/E36 -> 0.033883778
B38: 44197 | C38: 119.11 | E38: 116.24056 | F38: =(C38-C37+D38)/C37 -> -0.053781349 | G38: =(E38-E37)/E37 -> -0.053781357
B39: 44228 | C39: 118.93 | E39: 116.0649 | F39: =(C39-C38+D39)/C38 -> -0.0015112165 | G39: =(E39-E38)/E38 -> -0.0015111679
B40: 44256 | C40: 133.26 | D40: 1.63 | E40: 131.78751 | F40: =(C40-C39+D40)/C39 -> 0.13419654 | G40: =(E40-E39)/E39 -> 0.13546396
B41: 44287 | C41: 141.88001 | E41: 140.31227 | F41: =(C41-C40+D41)/C40 -> 0.064685655 | G41: =(E41-E40)/E40 -> 0.064685684
B42: 44317 | C42: 143.74 | E42: 142.15172 | F42: =(C42-C41+D42)/C41 -> 0.01310967 | G42: =(E42-E41)/E41 -> 0.013109666
A44: Notice, the return calculations are very similar. The reason they are not exact is that Yahoo! Finance reports the adjusted close to the nearest hundreth of a cent. This rounding can cause a slight difference in the percentage return calculation. Consider the example we used above. Using the adjusted price of $95.581, calculate for yourself that the return is actually 12.99 percent, not 13 percent. If you need total returns, the adjusted close will give you a fairly accurate return calculation that is much easier, especially since Yahoo! Finance won't download prices and dividends in the same spreadsheet. However, if you need capital gains returns and dividend yields separately, or very accurate returns, you will need to use the closing price and the dividends, not the adjusted close.

Sheet Section 10.2
B2: Chapter 10 - Section 2
B3: Holding Period Returns
A5: In the text and on the next tab, we show the historical returns by year for various asset categories for the period 1926 to 2020. Of course, with a data series this long, charts will often allow you to better visualize the data over time. Below, we have produced a chart similar to Figure 10.5 in the textbook which graphically shows large-company stock returns.
A33: RWJ Excel Tip
A34: To insert a column chart, select the data you want to graph, then go to the Insert tab, and select Column. Notice, we have different markings for positive and negative numbers. To do this, we right-clicked on one of the columns, selected Format Data Series, went to the Fill option, and put a check in the "Invert if negative" box.
A64: We have a question for you: In how many years over the 1926-2020 period were the annual large-company stock returns greater than 12 percent? While you can count these by hand, Excel has a function that quickly counts these values for you.
A66: How many times did large-company stocks have a return greater than or equal to 12 percent for the period 1926 to 2020?
B68: Number of years with a return greater than or equal to 12 percent: | G68: =COUNTIF('Historical Returns'!C6:C100,">=.12") -> 50
A70: RWJ Excel Tip
A71: To count the number of times a value occurs that is greater than or less than a specified value, use the COUNTIF function located under More Functions, Statistical. The inputs for the function are:
A87: Range is the range of the data you want to count the occurrences, and Criteria is the criteria you wish to count, in this case, returns that are greater than or equal to 12 percent. If you click on cell G68 and look at the formula bar, you will notice that Excel puts quotes around >=.12. The reason is that Excel treats the mathematical operator as text. COUNTIF can also be used to count the number of occurrences of text in a data set. We should note that there appears to be a bug with COUNTIF. Notice that we entered the 12 percent minimum return in the equation box. Generally, we would like to make this a cell reference so that we could change the number in the cell and have Excel COUNTIF for another specified number. Unfortunately, because Excel treats this input as text, it will not allow you to reference a cell for this input. (Actually, Excel will allow you to reference a cell for this input, but it will not correctly perform the operation.)
A90: Of course, as with any other function, the uses of COUNTIF can easily be extended. Suppose you wanted to count the number of annual returns for large-company stocks that were greater than 9 percent but less than 23 percent. We could count all the returns greater than 9 percent and subtract all the returns greater than 23 percent. To do this, we could use two COUNTIF functions like this:
B92: large-company stock returns greater than 9 percent and less than 23 percent: | G92: =COUNTIF('Historical Returns'!C6:C100,">.09")-COUNTIF('Historical Returns'!C6:C100,">.23") -> 28
A94: Filtering Data
A95: Of course, you may want to do more sorting and filtering of data. You may have noticed small arrows on the historical return header rows. These are sorting and filtering functions we built into the worksheet.
A97: RWJ Excel Tip
A98: When a filter is applied to a dataset, you will see a small arrow in the header row.
A99: To insert these sort/filter icons, we selected all the headers for our data columns, went to the Home tab, and selected filter. You may notice that the arrow for the year has a small arrow in it. This indicates that the data is sorted by the year. If you left-click on one of the arrows, it will bring up a box that allows you to sort the entire dataset by any particular column from the largest to smallest value, or smallest to largest value. If you look below the sorting options, you are also given filtering options. Go down to the Number Filter option and you will see a lot of different options. For example, you can filter by greater than a 30 percent large-company stock return. When you do so, Excel will hide all rows in which the large-company stock return is less than 30 percent. You can also filter by multiple columns. For example, if you filter by large-company stock returns greater than 30 percent and long-term government bond returns greater than 10 percent, Excel will only display the years 1985, 1989, 1991, 1995, and 1997. To remove the filter on the column, left-click on the filter arrow and then click on Clear Filter.
B101: If the data is sorted by a particular column, the arrow will look like this:
B103: If the data is filtered by a particular column, the arrow will look like this:
A106: Percentile
A107: If you want to sort the data and find a percentile ranking, Excel will also do this for you. For example, what is the 90th percentile return for large-company stocks since 1926? To answer this question, we can use Rank and Percentile.
A109: RWJ Excel Tip
A110: To sort data and find a percentile for each point, go to the Data tab, select Data Analysis, then Rank and Percentile:
A123: Once you click OK, Excel will bring up another box with the input information:
A138: We used the large-company stock returns from the Historical Returns worksheet and selected the first row with the header. We also selected to have the output in a different worksheet. If you look at the Percentile worksheet, you will find the output. So, the 90th percentile return was about 33.36 percent. (Notice, to be precise, the 90.4 percentile return was 33.36 percent.)

Sheet Percentile
A1: Point | B1: Column1 | C1: Rank | D1: Percent
A2: 8 | B2: 0.5399 | C2: 1 | D2: 1
A3: 29 | B3: 0.5262 | C3: 2 | D3: 0.989
A4: 10 | B4: 0.4767 | C4: 3 | D4: 0.978
A5: 3 | B5: 0.4361 | C5: 4 | D5: 0.968
A6: 33 | B6: 0.4336 | C6: 5 | D6: 0.957
A7: 70 | B7: 0.3758 | C7: 6 | D7: 0.946
A8: 2 | B8: 0.3749 | C8: 7 | D8: 0.936
A9: 50 | B9: 0.3723 | C9: 8 | D9: 0.925
A10: 20 | B10: 0.3644 | C10: 9 | D10: 0.914
A11: 11 | B11: 0.3392 | C11: 10 | D11: 0.904
A12: 72 | B12: 0.3336 | C12: 11 | D12: 0.893
A13: 55 | B13: 0.325 | C13: 12 | D13: 0.882
... A96: 6 | B96: -0.4334 | C96: 95 | D96: 0

Sheet Historical Returns
B3: Historical Returns
C5: Large-Company Stocks | D5: Long-Term Government Bonds | E5: U.S. Treasury Bills | F5: Consumer Price Index
B6: 1926 | C6: 0.1162 | D6: 0.0777 | E6: 0.0327 | F6: -0.0149
B7: 1927 | C7: 0.3749 | D7: 0.0893 | E7: 0.0312 | F7: -0.0208
B8: 1928 | C8: 0.4361 | D8: 0.001 | E8: 0.0356 | F8: -0.0097
B9: 1929 | C9: -0.0842 | D9: 0.0342 | E9: 0.0475 | F9: 0.002
B10: 1930 | C10: -0.249 | D10: 0.0466 | E10: 0.0241 | F10: -0.0603
B11: 1931 | C11: -0.4334 | D11: -0.0531 | E11: 0.0107 | F11: -0.0952
B12: 1932 | C12: -0.0819 | D12: 0.1684 | E12: 0.0096 | F12: -0.103
B13: 1933 | C13: 0.5399 | D13: -0.0007 | E13: 0.003 | F13: 0.0051
B14: 1934 | C14: -0.0144 | D14: 0.1003 | E14: 0.0016 | F14: 0.0203
B15: 1935 | C15: 0.4767 | D15: 0.0498 | E15: 0.0017 | F15: 0.0299
B16: 1936 | C16: 0.3392 | D16: 0.0752 | E16: 0.0018 | F16: 0.0121
B17: 1937 | C17: -0.3503 | D17: 0.0023 | E17: 0.0031 | F17: 0.031
... B100: 2020 | C100: 0.184 | D100: 0.154 | E100: 0.0044 | F100: 0.0136

Sheet Section 10.3
B2: Chapter 10 - Section 3
B3: Return Statistics
A5: Calculating the average return for a large sample is a time consuming task. Fortunately, Excel has the function AVERAGE that calculates the arithmetic average of a series of numbers. In the Historical Returns worksheet, we have reproduced the historical returns from Table 10.1. To calculate the arithmetic average return for each of these return series, we can use the AVERAGE function, which gives us:
D7: Average return
B8: large-company stocks | D8: =AVERAGE('Historical Returns'!C6:C100) -> 0.12157474
B9: Long-term government bonds | D9: =AVERAGE('Historical Returns'!D6:D100) -> 0.060332632
B10: U.S. Treasury bills | D10: =AVERAGE('Historical Returns'!E6:E100) -> 0.033378947
B11: Inflation | D11: =AVERAGE('Historical Returns'!F6:F100) -> 0.029326316
A13: Notice the average returns are slightly different from those reported in Table 10.2 because they are from two different sources.
A15: RWJ Excel Tip
A16: The AVERAGE function is a Statistical function under More Functions on the Formula tab. The AVERAGE function is relatively simple to use. We only need to input the cells that we want to calculate the average for in the box. Below, you will see our inputs for calculating the large-company stock average return. Notice, we entered the data as an array by selecting all the adjacent cells with the mouse. The array is reported with a colon (:) between the first cell and the last cell. Of course, we could have entered one cell at a time by entering the cell in Number1, hitting tab, and then entering the next cell in Number2, and so on.
A36: As you can see, Excel will only allow 255 numeric arguments, but will allow many more numbers when you enter the values as an array.
A39: Suppose you want to sort the returns by the highest large-company stock return. Excel has a sort function that allows you to sort based on text (A to Z), whether the text is case sensitive, number, date or time, cell color, font, and/or icon. We want to sort the returns by largest to smallest return. First, we want to sort by large-company stock returns, then Treasury bill returns, inflation, and finally, long-term government bond returns.
A41: RWJ Excel Tip
A42: To sort columns (or rows), first select the entire array of data you want to sort. In this case, we selected all five columns including the year. We also included the column headers in our selection. Next, on the Home tab, click on Sort & Filter, then Custom Sort. This brings up a box that will look something like the box below:
A58: Notice at the top right of the box, the box with "My data has headers" has been checked. This tells Excel to ignore the first row when it sorts. We chose large-company Stocks in the first column, sorted on values in the second column, then chose largest to smallest in the third column. To add another level of sorting, we clicked on "Add Level" in the upper left of the box and repeated the procedure for the other data arrays. Below, you will find a snapshot of what we got.
A70: Notice that 1933 had the largest large-company stock return over this period. In this example, the sorts on the other data series are almost irrelevant. A multi-level sort such as we have done here uses the first sort as the first priority. In this case, Excel will sort the large-company stock returns from largest to smallest. If any of the large-company stock returns are the same, it will then sort by U.S. Treasury bill returns from largest to smallest. To get the data back to chronological order, sort the data by the year from smallest to largest.

Sheet Section 10.5
B2: Chapter 10 - Section 5
B3: Risk Statistics
A5: To examine the variability of the historical returns, again we may want to start with a graphical analysis. In the textbook, Figure 10.9 illustrates a frequency distribution for large-company stocks, which we will replicate here. To do this, we must first create bins. A bin is just the limits of the range. For example, in this case, the bin starts at -60%, which will count the number of annual returns less than -60%. The next bin is -55%. This will count the number of returns less than -55%, but greater than -60%. To create this frequency distribution, we will use the FREQUENCY function.
C7: Bin | D7: Frequency | G7: Ranges | H7: Frequency
C8: -0.6 | D8: {=FREQUENCY('Historical Returns'!C6:C100,C8:C32)} -> 0
C9: -0.55 | D9: 0 | G9: =C8*100& "% to " &C9*100&"%" -> -60% to -55% | H9: =D9 -> 0
C10: -0.5 | D10: 0 | G10: =C9*100& "% to " &C10*100&"%" -> -55% to -50% | H10: =D10 -> 0
C11: -0.45 | D11: 0 | G11: =C10*100& "% to " &C11*100&"%" -> -50% to -45% | H11: =D11 -> 0
C12: -0.4 | D12: 1 | G12: =C11*100& "% to " &C12*100&"%" -> -45% to -40% | H12: =D12 -> 1
C13: -0.35 | D13: 2 | G13: =C12*100& "% to " &C13*100&"%" -> -40% to -35% | H13: =D13 -> 2
C14: -0.3 | D14: 0 | G14: =C13*100& "% to " &C14*100&"%" -> -35% to -30% | H14: =D14 -> 0
C15: -0.25 | D15: 1 | G15: =C14*100& "% to " &C15*100&"%" -> -30% to -25% | H15: =D15 -> 1
C16: -0.2 | D16: 2 | G16: =C15*100& "% to " &C16*100&"%" -> -25% to -20% | H16: =D16 -> 2
C17: -0.15 | D17: 0 | G17: =C16*100& "% to " &C17*100&"%" -> -20% to -15% | H17: =D17 -> 0
C18: -0.1 | D18: 5 | G18: =C17*100& "% to " &C18*100&"%" -> -15% to -10% | H18: =D18 -> 5
C19: -0.05 | D19: 8 | G19: =C18*100& "% to " &C19*100&"%" -> -10% to -5% | H19: =D19 -> 8
C20: 0 | D20: 6 | G20: =C19*100& "% to " &C20*100&"%" -> -5% to 0% | H20: =D20 -> 6
... C32: 0.6 | D32: 0 | G32: =C31*100& "% to " &C32*100&"%" -> 55% to 60% | H32: =D32 -> 0
D33: 0
A34: RWJ Excel Tip
A35: The FREQUENCY function is a Statistical function found under More Functions. Because the FREQUENCY function is somewhat complicated, we will walk through the process step-by-step.
B36: 1) Set up the bins as we described above. The bins should be set up so that the smallest and largest bins have no observations.
B37: 2) Select the column (or row) next to the bins. The FREQUENCY function will return one more value than the number of bins you have created, so select one more cell than the number of bins. In this case, we selected cell D33. This will return any results larger than your last bin value.
B38: 3) Go to the Formula tab and insert the Frequency function, found under More Functions, Statistical.
B39: 4) The Data_array is the data you want to analyze with the frequency distribution, while the Bins_array is the array that shows the bins you have already created.
B40: 5) DO NOT click OK when you have entered both the data array and bins array information! Before you click OK, hold down both the CTRL and SHIFT keys, then click on OK. This will populate the entire array of frequency distributions that you have created.
A42: Below, you can see the function arguments we used to create this frequency distribution.
A59: Notice that beside the frequency distribution, we created another frequency distribution with ranges. We created the ranges by concatenating the bins we created earlier. While we could graph a frequency distribution using the bins, the legend will not be as descriptive. We will use the ranges for graphing the frequency distribution, which you will see below.
A86: RWJ Excel Tip
A87: To create this frequency distribution, we selected the data we wanted to graph (H9:H32) and went to the Insert tab, Column chart, 2-D, Clustered Column. We then selected the data for the horizontal axis and input the legends as normal. Generally, when Excel draws a frequency distribution as we have done here, there is a large amount of space between the columns. You can change this width by right clicking on a column and selecting Format Data Series. In the box this brings up, there is a Series Option selection that will allow you to change the gap between the columns.
A90: One thing to notice is that the frequency distribution here looks less normal than Figure 10.9 in the textbook. When looking at any graph, always be aware that it is relatively easy to make the graph look like you want. In other words, it is very easy to get misled by a graph.
A92: There is another way to graph a histogram in Excel. To graph the histogram with this method, we need to set up the bins as we have done, but we do not need to use the FREQUENCY function.
A94: RWJ Excel Tip
A95: For another way to graph a histogram, go to the Data tab, select Data Analysis, then Histogram:
A108: Once you click OK, Excel will bring up another box for the input information:
A125: We used the large-company stock returns from the Historical Returns worksheet and the bins we previously created. We selected to have the output in a different worksheet, and selected the Chart Output option. If you look at the Histogram worksheet, you will find the output, which includes the frequency distribution. Notice that the graph output is "raw". We could always change the look of the graph if we wanted.
A128: Variance and Standard Deviation
A129: The variance and standard deviation of an asset are measures of the risk of the asset. Fortunately, Excel has built-in functions that calculate both the variance and standard deviation.
B131: Variance of large-company stock returns | F131: =VAR('Historical Returns'!C6:C100) -> 0.038676673
B132: Standard deviation of large-company stock returns | F132: =STDEV('Historical Returns'!C6:C100) -> 0.19666386
...

Sheet Histogram
A1: Bin | B1: Frequency
A2: -0.6 | B2: 0
A3: -0.55 | B3: 0
A4: -0.5 | B4: 0
A5: -0.45 | B5: 0
A6: -0.4 | B6: 1
A7: -0.35 | B7: 2
A8: -0.3 | B8: 0
A9: -0.25 | B9: 2
A10: -0.2 | B10: 1
A11: -0.15 | B11: 0
A12: -0.1 | B12: 6
A13: -0.05 | B13: 7
... A26: 0.6 | B26: 0
A27: More | B27: 0

Sheet Section 10.6
B2: Chapter 10 - Section 6
B3: More on Average Returns
A5: We used the AVERAGE function to calculate the arithmetic average of a series of returns. Excel also has a function that calculates the geometric average, however the function is slightly more difficult to use for returns since it will not work if any value in the series is less than or equal to zero. To adjust for this, we can add 1 to each return first, find the geometric return, and then subtract 1 from this answer. At the bottom of this worksheet, we have added 1 to the annual return for each asset class. Now we use Excel's geometric mean function:
B7: large-company stocks | D7: =GEOMEAN(C43:C137) -> 1.1028544
B8: Long-term government bonds | D8: =GEOMEAN(D43:D137) -> 1.0560213
B9: U.S. Treasury bills | D9: =GEOMEAN(E43:E137) -> 1.0329323
B10: Inflation | D10: =GEOMEAN(F43:F137) -> 1.0285701
A12: RWJ Excel Tip
A13: The GEOMEAN function is under More Functions, Statistical on the Formula tab. The GEOMEAN function requires the input for the cells that we want to calculate the geometric mean for in the box. Below, you will see our inputs for calculating the gemoetric return for 1 plus the large-company stock returns. Notice, we entered the data as an array by selecting all the adjacent cells with the mouse. The array is reported with a colon (:) between the first cell and the last cell. Of course, we could have entered one cell at a time by entering the cell in Number1, hitting tab, and then entering the next cell in Number2, and so on.
A33: Now we can subtract one to find the geometric return for each asset class:
D35: Geometric Return
B36: large-company stocks | D36: =D7-1 -> 0.10285436
B37: Long-term government bonds | D37: =D8-1 -> 0.056021321
B38: U.S. Treasury bills | D38: =D9-1 -> 0.032932268
B39: Inflation | D39: =D10-1 -> 0.028570071
C41: 1 (One) plus the annual return
C42: ='Historical Returns'!C5 -> Large-Company Stocks | D42: ='Historical Returns'!D5 -> Long-Term Government Bonds | E42: ='Historical Returns'!E5 -> U.S. Treasury Bills | F42: ='Historical Returns'!F5 -> Consumer Price Index
B43: ='Historical Returns'!B6 -> 1926 | C43: ='Historical Returns'!C6+1 -> 1.1162 | D43: ='Historical Returns'!D6+1 -> 1.0777 | E43: ='Historical Returns'!E6+1 -> 1.0327 | F43: ='Historical Returns'!F6+1 -> 0.9851
B44: ='Historical Returns'!B7 -> 1927 | C44: ='Historical Returns'!C7+1 -> 1.3749 | D44: ='Historical Returns'!D7+1 -> 1.0893 | E44: ='Historical Returns'!E7+1 -> 1.0312 | F44: ='Historical Returns'!F7+1 -> 0.9792
B45: ='Historical Returns'!B8 -> 1928 | C45: ='Historical Returns'!C8+1 -> 1.4361 | D45: ='Historical Returns'!D8+1 -> 1.001 | E45: ='Historical Returns'!E8+1 -> 1.0356 | F45: ='Historical Returns'!F8+1 -> 0.9903
B46: ='Historical Returns'!B9 -> 1929 | C46: ='Historical Returns'!C9+1 -> 0.9158 | D46: ='Historical Returns'!D9+1 -> 1.0342 | E46: ='Historical Returns'!E9+1 -> 1.0475 | F46: ='Historical Returns'!F9+1 -> 1.002
B47: ='Historical Returns'!B10 -> 1930 | C47: ='Historical Returns'!C10+1 -> 0.751 | D47: ='Historical Returns'!D10+1 -> 1.0466 | E47: ='Historical Returns'!E10+1 -> 1.0241 | F47: ='Historical Returns'!F10+1 -> 0.9397
B48: ='Historical Returns'!B11 -> 1931 | C48: ='Historical Returns'!C11+1 -> 0.5666 | D48: ='Historical Returns'!D11+1 -> 0.9469 | E48: ='Historical Returns'!E11+1 -> 1.0107 | F48: ='Historical Returns'!F11+1 -> 0.9048
B49: ='Historical Returns'!B12 -> 1932 | C49: ='Historical Returns'!C12+1 -> 0.9181 | D49: ='Historical Returns'!D12+1 -> 1.1684 | E49: ='Historical Returns'!E12+1 -> 1.0096 | F49: ='Historical Returns'!F12+1 -> 0.897
B50: ='Historical Returns'!B13 -> 1933 | C50: ='Historical Returns'!C13+1 -> 1.5399 | D50: ='Historical Returns'!D13+1 -> 0.9993 | E50: ='Historical Returns'!E13+1 -> 1.003 | F50: ='Historical Returns'!F13+1 -> 1.0051
B51: ='Historical Returns'!B14 -> 1934 | C51: ='Historical Returns'!C14+1 -> 0.9856 | D51: ='Historical Returns'!D14+1 -> 1.1003 | E51: ='Historical Returns'!E14+1 -> 1.0016 | F51: ='Historical Returns'!F14+1 -> 1.0203
B52: ='Historical Returns'!B15 -> 1935 | C52: ='Historical Returns'!C15+1 -> 1.4767 | D52: ='Historical Returns'!D15+1 -> 1.0498 | E52: ='Historical Returns'!E15+1 -> 1.0017 | F52: ='Historical Returns'!F15+1 -> 1.0299
B53: ='Historical Returns'!B16 -> 1936 | C53: ='Historical Returns'!C16+1 -> 1.3392 | D53: ='Historical Returns'!D16+1 -> 1.0752 | E53: ='Historical Returns'!E16+1 -> 1.0018 | F53: ='Historical Returns'!F16+1 -> 1.0121
B54: ='Historical Returns'!B17 -> 1937 | C54: ='Historical Returns'!C17+1 -> 0.6497 | D54: ='Historical Returns'!D17+1 -> 1.0023 | E54: ='Historical Returns'!E17+1 -> 1.0031 | F54: ='Historical Returns'!F17+1 -> 1.031
... B125: ='Historical Returns'!B88 -> 2008 | C125: ='Historical Returns'!C88+1 -> 0.63 | D125: ='Historical Returns'!D88+1 -> 1.2587 | E125: ='Historical Returns'!E88+1 -> 1.016 | F125: ='Historical Returns'!F88+1 -> 1.0009
B126: 2009 | C126: ='Historical Returns'!C89+1 -> 1.2646 | D126: ='Historical Returns'!D89+1 -> 0.851 | E126: ='Historical Returns'!E89+1 -> 1.001 | F126: ='Historical Returns'!F89+1 -> 1.0272
B127: 2010 | C127: ='Historical Returns'!C90+1 -> 1.1506 | D127: ='Historical Returns'!D90+1 -> 1.1014 | E127: ='Historical Returns'!E90+1 -> 1.0012 | F127: ='Historical Returns'!F90+1 -> 1.015
B128: 2011 | C128: ='Historical Returns'!C91+1 -> 1.0211 | D128: ='Historical Returns'!D91+1 -> 1.271 | E128: ='Historical Returns'!E91+1 -> 1.0004 | F128: ='Historical Returns'!F91+1 -> 1.0296
B129: 2012 | C129: ='Historical Returns'!C92+1 -> 1.16 | D129: ='Historical Returns'!D92+1 -> 1.0343 | E129: ='Historical Returns'!E92+1 -> 1.0006 | F129: ='Historical Returns'!F92+1 -> 1.0174
B130: 2013 | C130: ='Historical Returns'!C93+1 -> 1.3239 | D130: ='Historical Returns'!D93+1 -> 0.8722 | E130: ='Historical Returns'!E93+1 -> 1.0002 | F130: ='Historical Returns'!F93+1 -> 1.0151
B131: 2014 | C131: ='Historical Returns'!C94+1 -> 1.1369 | D131: ='Historical Returns'!D94+1 -> 1.2471 | E131: ='Historical Returns'!E94+1 -> 1.0002 | F131: ='Historical Returns'!F94+1 -> 1.0076
B132: 2015 | C132: ='Historical Returns'!C95+1 -> 1.0138 | D132: ='Historical Returns'!D95+1 -> 0.9935 | E132: ='Historical Returns'!E95+1 -> 1.0002 | F132: ='Historical Returns'!F95+1 -> 1.0073
B133: 2016 | C133: ='Historical Returns'!C96+1 -> 1.1196 | D133: ='Historical Returns'!D96+1 -> 0.9825 | E133: ='Historical Returns'!E96+1 -> 1.002 | F133: ='Historical Returns'!F96+1 -> 1.0207
B134: 2017 | C134: ='Historical Returns'!C97+1 -> 1.2183 | D134: ='Historical Returns'!D97+1 -> 1.0624 | E134: ='Historical Returns'!E97+1 -> 1.008 | F134: ='Historical Returns'!F97+1 -> 1.0211
B135: 2018 | C135: ='Historical Returns'!C98+1 -> 0.9562 | D135: ='Historical Returns'!D98+1 -> 0.9943 | E135: ='Historical Returns'!E98+1 -> 1.0181 | F135: ='Historical Returns'!F98+1 -> 1.0191
...

Sheet Pivot Tables
B2: Chapter 10
B3: Pivot Tables
A5: We have already shown how to analyze data using Excel functions such as AVERAGE and STDEV. Since we have a small data set, these functions are probably the easiest way to analyze historic annual market returns for the period we examined in the text. However, we feel that pivot tables are such an important part of data analysis, especially for large data sets, that we wanted to introduce you to pivot tables. On the Historic Data 2 worksheet, you will find the annual returns for the four asset classes from Table 10.1 in the textbook. Notice, we have the year listed in the first column, the asset class in the second column, and the return in the third column. Pivot tables are designed to group things that are alike. In this case, we will have the pivot table group the returns by the asset class in the second column. Suppose we had data with several categorizations in the columns, such as sales with region and quarter, we could create a pivot table that totaled sales by region and quarter.
A7: Since we have a small data set, our pivot table will be basic. Below, we describe how we constructed the pivot table on the next worksheet.
A9: RWJ Excel Tip
A10: To create a pivot table, we went to the data we wanted to use to create a pivot table and selected a cell in the data (any cell in the data array will work). Next, we went to the Insert tab, then selected Pivot Table. This brought up a box that looks like this:
A27: Excel automatically selects all of the data in the rows and columns of the data array. We chose to output the data in a new worksheet and clicked OK. This brings up a new worksheet that looks like this:
A58: To get Excel to display the returns by asset class, we selected Asset and Return in the Pivot Table File List. As you can see on the Pivot Table worksheet, the values calculated for each asset class are the sum of the returns over this period. While this is useful for numbers such as sales, it is less useful for returns. You can right-click on the Sum of Returns header at the top of the column, select Summarize Values By, and Average. The result is the average of each asset's returns over this period. You can also choose More Options and calculate other statistics such as variance and standard deviation.
A60: Excel will also graph a chart from pivot table data. We went to the Insert tab and clicked PivotChart. This brought up a box that looks like this:
A77: On the new worksheet, we selected Asset and Return in the Pivot Table File List. The pivot table and graph were automatically inserted. As before, the calculation was the sum of the returns, so we changed the calculation to the average using the Summarize Data By option like we explained above.
A79: Pivot tables are a powerful way to categorize and summarize data. There are many more options for pivot tables and we encourage you to explore them.

Sheet Historic data 2
A1: Year | B1: Asset | C1: Return
A2: 1926 | B2: CPI | C2: -0.0149
A3: 1927 | B3: CPI | C3: -0.0208
A4: 1928 | B4: CPI | C4: -0.0097
A5: 1929 | B5: CPI | C5: 0.002
A6: 1930 | B6: CPI | C6: -0.0603
A7: 1931 | B7: CPI | C7: -0.0952
A8: 1932 | B8: CPI | C8: -0.103
A9: 1933 | B9: CPI | C9: 0.0051
A10: 1934 | B10: CPI | C10: 0.0203
A11: 1935 | B11: CPI | C11: 0.0299
A12: 1936 | B12: CPI | C12: 0.0121
A13: 1937 | B13: CPI | C13: 0.031
... A381: 2020 | B381: Treasury bills | C381: 0.0044

Sheet Pivot Table
A3: Row Labels | B3: Average of Return
A4: CPI | B4: 0.029326316
A5: Large-company stocks | B5: 0.12157474
A6: Long-term gov't bonds | B6: 0.060332632
A7: Treasury bills | B7: 0.033378947
A8: Grand Total | B8: 0.061153158

Sheet Pivot Chart
A1: Row Labels | B1: Average of Return
A2: CPI | B2: 0.029326316
A3: Large-company stocks | B3: 0.12157474
A4: Long-term gov't bonds | B4: 0.060332632
A5: Treasury bills | B5: 0.033378947
A6: Grand Total | B6: 0.061153158

Sheet Master it!
B2: Chapter 10 - Master It!
B4: As we have seen, over the 1926-2020 period, small-company stocks had the highest return and the highest risk, while U.S. Treasury bills had the lowest return and the lowest risk. While we certainly hope you have a 95-year holding period, it is likely your investment will be for fewer years. One way risk and return is examined over a shorter investment period is by using rolling returns and standard deviations. Suppose you have a series of annual returns and you want to calculate a 3-year rolling average return. You would calculate the first rolling average at Year 3 using the returns for the first 3 years. The next rolling average would be calculated using the returns from Years 2, 3, and 4.
A6: a. | B6: Using the annual returns for large-company stocks and Treasury bills, calculate both the 5- and 10-year rolling average return and standard deviation.
A8: b. | B8: Over how many 5-year periods did Treasury bills outperform large-company stocks? How many 10-year periods?
A10: c. | B10: Over how many 5-year periods did Treasury bills have a larger standard deviation than large-company stocks? Over how many 10-year periods?
A12: d. | B12: Graph the rolling 5-year and 10-year average returns for large-company stocks and Treasury bills.
A14: e. | B14: What conclusions do you draw from the above results?

Sheet Solution
B2: Master it! Solution
C4: large-company Stocks | H4: Treasury Bills | M4: 5- Year Period | O4: 10-Year Period
A5: a. | C5: 5-Year Average | D5: 5-Year Standard Deviation | E5: 10-Year Average | F5: 10-Year Standard Deviation | H5: 5-Year Average | I5: 5-Year Standard Deviation | J5: 10-Year Average | K5: 10-Year Standard Deviation | M5: T-Bill had a higher return | N5: T-Bills had a higher standard deviation | O5: T-Bill had a higher return | P5: T-Bills had a higher standard deviation
B6: 1930
B7: 1931
B8: 1932
B9: 1933
B10: 1934
B11: 1935
B12: 1936
B13: 1937
B14: 1938
B15: 1939
B16: 1940
B17: 1941
... B96: 2020
L97: Total:
